BEGIN:VCALENDAR
VERSION:2.0
CALSCALE:GREGORIAN
PRODID:-//Diputació de Barcelona//DibaCMS//EN
BEGIN:VEVENT
UID:2985
DTSTAMP:20260423T131628
DTSTART:20211029T100000
DTEND:20481023T000000
SUMMARY:Els Localets us porten d’excursió als llacs de La Noguera i a les Botigues Museu de Salàs de Pallars
LOCATION:
METHOD:PUBLISH
X-WR-CALNAME:dosrius@dosrius.cat
X-WR-TIMEZONE:Europe/Madrid
DESCRIPTION:La sortida tindrà lloc el 10 de novembre, les places són limitades, i per participar-hi cal inscriure’s prèviament de forma presencial a l’Ajuntament o trucant al 93 791 80 14 .

URI:https://www.dosrius.cat/actualitat/noticies/els-localets-us-porten-dexcursio-als-llacs-de-la-noguera-i-a-les-botigues-museu-de-salas-de-pallars.html
CLASS:PUBLIC
END:VEVENT
END:VCALENDAR
