BEGIN:VCALENDAR
VERSION:2.0
CALSCALE:GREGORIAN
PRODID:-//Diputació de Barcelona//DibaCMS//EN
BEGIN:VEVENT
UID:2974
DTSTAMP:20260423T114521
DTSTART:20211014T000000
DTEND:20481016T000000
SUMMARY:Aquest cap de setmana arriba la Fira del Bosc Canyamars Medieval 2021!
LOCATION:
METHOD:PUBLISH
X-WR-CALNAME:dosrius@dosrius.cat
X-WR-TIMEZONE:Europe/Madrid
DESCRIPTION:L’esdeveniment se celebrarà els dies 16 i 17 d’octubre amb diferents propostes lúdiques i divulgatives adaptades a la normativa Covid-19.

URI:https://www.dosrius.cat/actualitat/noticies/aquest-cap-de-setmana-arriba-la-fira-del-bosc-canyamars-medieval-2021.html
CLASS:PUBLIC
END:VEVENT
END:VCALENDAR
