BEGIN:VCALENDAR
VERSION:2.0
CALSCALE:GREGORIAN
PRODID:-//Diputació de Barcelona//DibaCMS//EN
BEGIN:VEVENT
UID:2971
DTSTAMP:20260423T114343
DTSTART:20211006T080000
DTEND:20481023T000000
SUMMARY:L’Ajuntament de Dosrius impulsa l’ocupació a través del projecte “Construcció tecnosostenible al Maresme”
LOCATION:
METHOD:PUBLISH
X-WR-CALNAME:dosrius@dosrius.cat
X-WR-TIMEZONE:Europe/Madrid
DESCRIPTION:Aquest projecte té per objecte dur a terme actuacions de promoció de l’ocupació i de la reactivació econòmica, basades en l’impuls de la tecnologia i en l’acompanyament a la transició digital de les persones i les d’empreses cap a un model socioeconòmic sostenible, inclusiu competitiu i igualitari en el marc de la cadena de valor vinculada a la construcció.

URI:https://www.dosrius.cat/actualitat/noticies/lajuntament-de-dosrius-impulsa-locupacio-a-traves-del-projecte-construccio-tecnosostenible-al-maresme.html
CLASS:PUBLIC
END:VEVENT
END:VCALENDAR
