BEGIN:VCALENDAR
VERSION:2.0
CALSCALE:GREGORIAN
PRODID:-//Diputació de Barcelona//DibaCMS//EN
BEGIN:VEVENT
UID:2970
DTSTAMP:20260423T100903
DTSTART:20211007T000000
DTEND:20481009T000000
SUMMARY:La barrera ubicada davant l’Escola Castell de Dosrius només restringirà la circulació de vehicles durant l’horari lectiu
LOCATION:
METHOD:PUBLISH
X-WR-CALNAME:dosrius@dosrius.cat
X-WR-TIMEZONE:Europe/Madrid
DESCRIPTION:Entre setmana es permetrà la circulació pels carrers 1 d’Octubre i Salvador Dalí des de les 17 h fins a les 08.30 h; mentre que els caps de setmana la barrera es mantindrà aixecada durant tota la jornada.

URI:https://www.dosrius.cat/actualitat/noticies/la-barrera-ubicada-davant-lescola-castell-de-dosrius-nomes-restringira-la-circulacio-de-vehicles-durant-lhorari-lectiu.html
CLASS:PUBLIC
END:VEVENT
END:VCALENDAR
