BEGIN:VCALENDAR
VERSION:2.0
CALSCALE:GREGORIAN
PRODID:-//Diputació de Barcelona//DibaCMS//EN
BEGIN:VEVENT
UID:2966
DTSTAMP:20260423T112746
DTSTART:20211005T000000
DTEND:20481016T000000
SUMMARY:Els molins fariners, protagonistes de les Jornades Europees de Patrimoni 2021
LOCATION:
METHOD:PUBLISH
X-WR-CALNAME:dosrius@dosrius.cat
X-WR-TIMEZONE:Europe/Madrid
DESCRIPTION:Els dies 9 i 10 d’octubre tindran lloc les activitats que s’han programat al municipi.

URI:https://www.dosrius.cat/actualitat/noticies/els-molins-fariners-protagonistes-de-les-jornades-europees-de-patrimoni-2021.html
CLASS:PUBLIC
END:VEVENT
END:VCALENDAR
