BEGIN:VCALENDAR
VERSION:2.0
CALSCALE:GREGORIAN
PRODID:-//Diputació de Barcelona//DibaCMS//EN
BEGIN:VEVENT
UID:2953
DTSTAMP:20260423T100928
DTSTART:20211004T000000
DTEND:20481016T000000
SUMMARY:Dates i horaris del Bibliobús a Dosrius per al darrer trimestre de l'any
LOCATION:
METHOD:PUBLISH
X-WR-CALNAME:dosrius@dosrius.cat
X-WR-TIMEZONE:Europe/Madrid
DESCRIPTION:Els veïns i veïnes poden fer ús d'aquest servei en horari reduït, de 16 a 18.30 h, i seguint les mesures de seguretat i de prevenció establertes amb l’objectiu d’evitar el contagi i la propagació de la Covid-19.

URI:https://www.dosrius.cat/actualitat/noticies/dates-i-horaris-del-bibliobus-a-dosrius-per-al-darrer-trimestre-de-lany.html
CLASS:PUBLIC
END:VEVENT
END:VCALENDAR
