BEGIN:VCALENDAR
VERSION:2.0
CALSCALE:GREGORIAN
PRODID:-//Diputació de Barcelona//DibaCMS//EN
BEGIN:VEVENT
UID:2952
DTSTAMP:20260423T114440
DTSTART:20211022T000000
DTEND:20361003T000000
SUMMARY:Dosrius aplica canvis de circulació a la zona de Can Torras, La Bomba i de Can Sant Pare
LOCATION:
METHOD:PUBLISH
X-WR-CALNAME:dosrius@dosrius.cat
X-WR-TIMEZONE:Europe/Madrid
DESCRIPTION:Amb l’objectiu de millorar la circulació i de pacificar el trànsit en alguns dels trams urbans, l’Ajuntament ha decidit modificar el sentit d’alguns carrers.

URI:https://www.dosrius.cat/actualitat/noticies/dosrius-aplica-canvis-de-circulacio-a-la-zona-de-can-torras-la-bomba-i-de-can-sant-pare.html
CLASS:PUBLIC
END:VEVENT
END:VCALENDAR
