BEGIN:VCALENDAR
VERSION:2.0
CALSCALE:GREGORIAN
PRODID:-//Diputació de Barcelona//DibaCMS//EN
BEGIN:VEVENT
UID:2951
DTSTAMP:20260423T131642
DTSTART:20210930T000000
DTEND:20300901T000000
SUMMARY:Noves mesures de contenció davant de la Covid-19
LOCATION:
METHOD:PUBLISH
X-WR-CALNAME:dosrius@dosrius.cat
X-WR-TIMEZONE:Europe/Madrid
DESCRIPTION:Les mesures entraran en vigor a partir de dijous 30 de setembre i la nova resolució aplica modificacions en l’àmbit de la restauració i les competicions esportives.

URI:https://www.dosrius.cat/actualitat/noticies/2951-noves-mesures-de-contencio-davant-de-la-covid-19.html
CLASS:PUBLIC
END:VEVENT
END:VCALENDAR
