BEGIN:VCALENDAR
VERSION:2.0
CALSCALE:GREGORIAN
PRODID:-//Diputació de Barcelona//DibaCMS//EN
BEGIN:VEVENT
UID:2947
DTSTAMP:20260425T132040
DTSTART:20211026T000000
DTEND:20450901T000000
SUMMARY:Dosrius convoca un concurs per escollir les fotografies del calendari de 2022
LOCATION:
METHOD:PUBLISH
X-WR-CALNAME:dosrius@dosrius.cat
X-WR-TIMEZONE:Europe/Madrid
DESCRIPTION:La temàtica ha d’estar relacionada amb el municipi. El termini per presentar les imatges  finalitza el 30 d’octubre i els premis es lliuraran el 13 de novembre. 

URI:https://www.dosrius.cat/actualitat/noticies/dosrius-convoca-un-concurs-per-escollir-les-fotografies-del-calendari-de-2022.html
CLASS:PUBLIC
END:VEVENT
END:VCALENDAR
