BEGIN:VCALENDAR
VERSION:2.0
CALSCALE:GREGORIAN
PRODID:-//Diputació de Barcelona//DibaCMS//EN
BEGIN:VEVENT
UID:2943
DTSTAMP:20260423T175518
DTSTART:20210916T000000
DTEND:20220916T000000
SUMMARY:Dosrius celebra la Festa de la Gent Gran 
LOCATION:
METHOD:PUBLISH
X-WR-CALNAME:dosrius@dosrius.cat
X-WR-TIMEZONE:Europe/Madrid
DESCRIPTION:Per participar en les activitats, cal inscriure’s prèviament a l’Ajuntament, com a molt tard el 27 de setembre

URI:https://www.dosrius.cat/actualitat/noticies/dosrius-celebra-la-festa-de-la-gent-gran-.html
CLASS:PUBLIC
END:VEVENT
END:VCALENDAR
