BEGIN:VCALENDAR
VERSION:2.0
CALSCALE:GREGORIAN
PRODID:-//Diputació de Barcelona//DibaCMS//EN
BEGIN:VEVENT
UID:2934
DTSTAMP:20260423T144859
DTSTART:20210906T080000
DTEND:20480925T000000
SUMMARY:Dosrius commemora la Diada Nacional de Catalunya
LOCATION:
METHOD:PUBLISH
X-WR-CALNAME:dosrius@dosrius.cat
X-WR-TIMEZONE:Europe/Madrid
DESCRIPTION:L’11 de setembre se celebrarà la tradicional ofrena floral i els parlaments públics. 

URI:https://www.dosrius.cat/actualitat/noticies/dosrius-commemora-la-diada-nacional-de-catalunya.html
CLASS:PUBLIC
END:VEVENT
END:VCALENDAR
