BEGIN:VCALENDAR
VERSION:2.0
CALSCALE:GREGORIAN
PRODID:-//Diputació de Barcelona//DibaCMS//EN
BEGIN:VEVENT
UID:2932
DTSTAMP:20260423T083718
DTSTART:20210901T080000
DTEND:20480626T000000
SUMMARY:El 9 de setembre participa en la nova jornada de donació de sang a Dosrius
LOCATION:
METHOD:PUBLISH
X-WR-CALNAME:dosrius@dosrius.cat
X-WR-TIMEZONE:Europe/Madrid
DESCRIPTION:Es podrà donar sang a la Sala de Plens de l’Ajuntament de 10 a 14 h i de 17 a 21 h.

URI:https://www.dosrius.cat/actualitat/noticies/el-9-de-setembre-participa-en-la-nova-jornada-de-donacio-de-sang-a-dosrius.html
CLASS:PUBLIC
END:VEVENT
END:VCALENDAR
