BEGIN:VCALENDAR
VERSION:2.0
CALSCALE:GREGORIAN
PRODID:-//Diputació de Barcelona//DibaCMS//EN
BEGIN:VEVENT
UID:2931
DTSTAMP:20260423T070416
DTSTART:20210830T080000
DTEND:20480828T000000
SUMMARY:Finalitzat el Pla especial de protecció del patrimoni i catàleg de béns arquitectònics, històrics i ambientals de Dosrius
LOCATION:
METHOD:PUBLISH
X-WR-CALNAME:dosrius@dosrius.cat
X-WR-TIMEZONE:Europe/Madrid
DESCRIPTION:El castell de Dosrius, les esglésies i grans cases o el Pou de Glaç, alguns dels elements més importants del Pla de Protecció del Patrimoni.

URI:https://www.dosrius.cat/actualitat/noticies/finalitzat-el-pla-especial-de-proteccio-del-patrimoni-i-cataleg-de-bens-arquitectonics-historics-i-ambientals-de-dosrius.html
CLASS:PUBLIC
END:VEVENT
END:VCALENDAR
