BEGIN:VCALENDAR
VERSION:2.0
CALSCALE:GREGORIAN
PRODID:-//Diputació de Barcelona//DibaCMS//EN
BEGIN:VEVENT
UID:2930
DTSTAMP:20260423T164035
DTSTART:20210822T000000
DTEND:20220823T000000
SUMMARY:Atenció, canvis en la programació de la Festa Major de Dosrius!
LOCATION:
METHOD:PUBLISH
X-WR-CALNAME:dosrius@dosrius.cat
X-WR-TIMEZONE:Europe/Madrid
DESCRIPTION:La festivitat tindrà lloc del 26 al 29 d’agost amb diferents propostes per a totes les edats adaptades a la Covid-19.

URI:https://www.dosrius.cat/actualitat/noticies/atencio-canvis-en-la-programacio-de-la-festa-major-de-dosrius.html
CLASS:PUBLIC
END:VEVENT
END:VCALENDAR
