BEGIN:VCALENDAR
VERSION:2.0
CALSCALE:GREGORIAN
PRODID:-//Diputació de Barcelona//DibaCMS//EN
BEGIN:VEVENT
UID:2929
DTSTAMP:20260423T070304
DTSTART:20210823T130000
DTEND:20480828T000000
SUMMARY:Viu la Festa Major de Dosrius del 26 al 29 d’agost
LOCATION:
METHOD:PUBLISH
X-WR-CALNAME:dosrius@dosrius.cat
X-WR-TIMEZONE:Europe/Madrid
DESCRIPTION:Com a única novetat respecte el programa d’activitats original, en el sopar popular del 26 d’agost no es podrà portar menjar de casa ni consumir a la via pública. Recupera l'entrevista que Dosrius Ràdio fa a Alba Ribas i Alba Pascual, membres de la Comissió de Festes de Dosrius.

URI:https://www.dosrius.cat/actualitat/noticies/viu-la-festa-major-de-dosrius-del-26-al-29-dagost.html
CLASS:PUBLIC
END:VEVENT
END:VCALENDAR
