BEGIN:VCALENDAR
VERSION:2.0
CALSCALE:GREGORIAN
PRODID:-//Diputació de Barcelona//DibaCMS//EN
BEGIN:VEVENT
UID:2927
DTSTAMP:20260423T131924
DTSTART:20210814T070000
DTEND:20480814T000000
SUMMARY:S’activa a Dosrius el nivell 3 del Pla Alfa per risc extrem d’incendis
LOCATION:
METHOD:PUBLISH
X-WR-CALNAME:dosrius@dosrius.cat
X-WR-TIMEZONE:Europe/Madrid
DESCRIPTION:Des de l’Ajuntament es demana a tots els veïns i veïnes extremar les precaucions, complir les restriccions establertes i evitar i erradicar qualsevol risc d’incendi.

URI:https://www.dosrius.cat/actualitat/noticies/sactiva-a-dosrius-el-nivell-3-del-pla-alfa-per-risc-extrem-dincendis.html
CLASS:PUBLIC
END:VEVENT
END:VCALENDAR
