BEGIN:VCALENDAR
VERSION:2.0
CALSCALE:GREGORIAN
PRODID:-//Diputació de Barcelona//DibaCMS//EN
BEGIN:VEVENT
UID:2918
DTSTAMP:20260423T131449
DTSTART:20210803T080000
DTEND:20480814T000000
SUMMARY:L’Ajuntament iniciarà enguany la primera fase d’obres del projecte d’adequació de la zona esportiva de Can Massuet del Far
LOCATION:
METHOD:PUBLISH
X-WR-CALNAME:dosrius@dosrius.cat
X-WR-TIMEZONE:Europe/Madrid
DESCRIPTION:Els treballs tenen com a objectiu millorar les actuals instal·lacions per tal d’ampliar l’oferta esportiva i d’oci de l’equipament.

URI:https://www.dosrius.cat/actualitat/noticies/lajuntament-iniciara-enguany-la-primera-fase-dobres-del-projecte-dadequacio-de-la-zona-esportiva-de-can-massuet-del-far.html
CLASS:PUBLIC
END:VEVENT
END:VCALENDAR
