BEGIN:VCALENDAR
VERSION:2.0
CALSCALE:GREGORIAN
PRODID:-//Diputació de Barcelona//DibaCMS//EN
BEGIN:VEVENT
UID:2917
DTSTAMP:20260423T070548
DTSTART:20210802T000000
DTEND:20480821T000000
SUMMARY:Els Localets acomiaden el curs 2020-2021
LOCATION:
METHOD:PUBLISH
X-WR-CALNAME:dosrius@dosrius.cat
X-WR-TIMEZONE:Europe/Madrid
DESCRIPTION:L'Ajuntament agraeix a tots els participants la seva col·laboració i implicació en les diferents activitats.

URI:https://www.dosrius.cat/actualitat/noticies/els-localets-acomiaden-el-curs-2020-2021.html
CLASS:PUBLIC
END:VEVENT
END:VCALENDAR
