BEGIN:VCALENDAR
VERSION:2.0
CALSCALE:GREGORIAN
PRODID:-//Diputació de Barcelona//DibaCMS//EN
BEGIN:VEVENT
UID:2905
DTSTAMP:20260423T144725
DTSTART:20210723T080000
DTEND:20480724T000000
SUMMARY:Ajuda’ns a documentar com s’ha viscut la pandèmia al municipi
LOCATION:
METHOD:PUBLISH
X-WR-CALNAME:dosrius@dosrius.cat
X-WR-TIMEZONE:Europe/Madrid
DESCRIPTION:Tots aquells veïns i veïnes que ho desitgin poden fer arribar les seves fotografies, vídeos i documents al correu electrònic arxiu@dosrius.cat.

URI:https://www.dosrius.cat/actualitat/noticies/ajudans-a-documentar-com-sha-viscut-la-pandemia-al-municipi.html
CLASS:PUBLIC
END:VEVENT
END:VCALENDAR
