BEGIN:VCALENDAR
VERSION:2.0
CALSCALE:GREGORIAN
PRODID:-//Diputació de Barcelona//DibaCMS//EN
BEGIN:VEVENT
UID:2904
DTSTAMP:20260423T101033
DTSTART:20210720T080000
DTEND:20480730T000000
SUMMARY:Aquest estiu tornen les festes majors a Canyamars, Dosrius i Can Massuet del Far
LOCATION:
METHOD:PUBLISH
X-WR-CALNAME:dosrius@dosrius.cat
X-WR-TIMEZONE:Europe/Madrid
DESCRIPTION:Les diferents activitats festives estaran sotmeses a les mesures de seguretat i restriccions vigents per la Covid-19; i la celebració del programa d’activitats estarà condicionat a l’evolució de la pandèmia.

URI:https://www.dosrius.cat/actualitat/noticies/aquest-estiu-tornen-les-festes-majors-a-canyamars-dosrius-i-can-massuet-del-far.html
CLASS:PUBLIC
END:VEVENT
END:VCALENDAR
