BEGIN:VCALENDAR
VERSION:2.0
CALSCALE:GREGORIAN
PRODID:-//Diputació de Barcelona//DibaCMS//EN
BEGIN:VEVENT
UID:2894
DTSTAMP:20260423T131739
DTSTART:20210715T000000
DTEND:20480731T000000
SUMMARY:Noves mesures contra la Covid-19 vigents des del 15 de juliol
LOCATION:
METHOD:PUBLISH
X-WR-CALNAME:dosrius@dosrius.cat
X-WR-TIMEZONE:Europe/Madrid
DESCRIPTION:El Govern tanca totes les activitats a partir de les 00.30 h i  també limita les reunions a un màxim de 10 persones.

URI:https://www.dosrius.cat/actualitat/noticies/noves-mesures-contra-la-covid-19-vigents-des-del-15-de-juliol.html
CLASS:PUBLIC
END:VEVENT
END:VCALENDAR
