BEGIN:VCALENDAR
VERSION:2.0
CALSCALE:GREGORIAN
PRODID:-//Diputació de Barcelona//DibaCMS//EN
BEGIN:VEVENT
UID:2893
DTSTAMP:20260423T100131
DTSTART:20210810T080000
DTEND:20480724T000000
SUMMARY:Convocatòria de beques escolars per al curs 2021-2022
LOCATION:
METHOD:PUBLISH
X-WR-CALNAME:dosrius@dosrius.cat
X-WR-TIMEZONE:Europe/Madrid
DESCRIPTION:Els ajuts es poden sol·licitar fins el 13 de setembre a les oficines municipals o per via telemàtica.

URI:https://www.dosrius.cat/actualitat/noticies/convocatoria-de-beques-escolars-per-al-curs-2021-2022.html
CLASS:PUBLIC
END:VEVENT
END:VCALENDAR
