BEGIN:VCALENDAR
VERSION:2.0
CALSCALE:GREGORIAN
PRODID:-//Diputació de Barcelona//DibaCMS//EN
BEGIN:VEVENT
UID:2886
DTSTAMP:20260423T114740
DTSTART:20210708T080000
DTEND:20480731T000000
SUMMARY:Noves mesures per contenir el creixement dels casos relacionats amb la Covid-19
LOCATION:
METHOD:PUBLISH
X-WR-CALNAME:dosrius@dosrius.cat
X-WR-TIMEZONE:Europe/Madrid
DESCRIPTION:Les mesures entraran en vigor el 9 de juliol i tindran una vigència de 14 dies.

URI:https://www.dosrius.cat/actualitat/noticies/noves-mesures-per-contenir-el-creixement-dels-casos-relacionats-amb-la-covid-19.html
CLASS:PUBLIC
END:VEVENT
END:VCALENDAR
