BEGIN:VCALENDAR
VERSION:2.0
CALSCALE:GREGORIAN
PRODID:-//Diputació de Barcelona//DibaCMS//EN
BEGIN:VEVENT
UID:2880
DTSTAMP:20260423T101106
DTSTART:20210702T080000
DTEND:20480724T000000
SUMMARY:Dosrius se suma al Dia Internacional pels Drets del Col·lectiu LGTBIQ+ amb la pintada d’un banc amb els colors de la bandera irisada 
LOCATION:
METHOD:PUBLISH
X-WR-CALNAME:dosrius@dosrius.cat
X-WR-TIMEZONE:Europe/Madrid
DESCRIPTION:Al llarg dels darrers dies s’han dut a terme al municipi i a nivell comarcal diferents actes lúdics i reivindicatius amb motiu de la diada.

URI:https://www.dosrius.cat/actualitat/noticies/dosrius-se-suma-al-dia-internacional-pels-drets-del-collectiu-lgtbiq-amb-la-pintada-dun-banc-amb-els-colors-de-la-bandera-irisada-.html
CLASS:PUBLIC
END:VEVENT
END:VCALENDAR
