BEGIN:VCALENDAR
VERSION:2.0
CALSCALE:GREGORIAN
PRODID:-//Diputació de Barcelona//DibaCMS//EN
BEGIN:VEVENT
UID:2878
DTSTAMP:20260423T083315
DTSTART:20210701T130000
DTEND:20480731T000000
SUMMARY:Els Localets tornaran el mes de setembre amb un ampli programa d’activitats per al darrer trimestre de l’any
LOCATION:
METHOD:PUBLISH
X-WR-CALNAME:dosrius@dosrius.cat
X-WR-TIMEZONE:Europe/Madrid
DESCRIPTION:Les inscripcions s’hauran de formalitzar del 5 al 19 de juliol a l’OAC de l’Ajuntament.

URI:https://www.dosrius.cat/actualitat/noticies/els-localets-tornaran-el-mes-de-setembre-amb-un-ampli-programa-dactivitats-per-al-darrer-trimestre-de-lany.html
CLASS:PUBLIC
END:VEVENT
END:VCALENDAR
