BEGIN:VCALENDAR
VERSION:2.0
CALSCALE:GREGORIAN
PRODID:-//Diputació de Barcelona//DibaCMS//EN
BEGIN:VEVENT
UID:2876
DTSTAMP:20260423T071439
DTSTART:20210629T000000
DTEND:20480626T000000
SUMMARY:Els joves de 16 a 29 anys poden demanar hora al consultori de Dosrius per a vacunar-se
LOCATION:
METHOD:PUBLISH
X-WR-CALNAME:dosrius@dosrius.cat
X-WR-TIMEZONE:Europe/Madrid
DESCRIPTION:Per a concertar data i hora de vacunació de la Covid-19 cal trucar al telèfon 937 91 90 84.

URI:https://www.dosrius.cat/actualitat/noticies/els-joves-de-16-a-29-anys-poden-demanar-hora-al-consultori-de-dosrius-per-a-vacunar-se.html
CLASS:PUBLIC
END:VEVENT
END:VCALENDAR
