BEGIN:VCALENDAR
VERSION:2.0
CALSCALE:GREGORIAN
PRODID:-//Diputació de Barcelona//DibaCMS//EN
BEGIN:VEVENT
UID:2858
DTSTAMP:20260423T083808
DTSTART:20210618T080000
DTEND:20480627T000000
SUMMARY:Noves mesures anti-Covid: trobades sense límit de persones i reobertura de l'oci nocturn
LOCATION:
METHOD:PUBLISH
X-WR-CALNAME:dosrius@dosrius.cat
X-WR-TIMEZONE:Europe/Madrid
DESCRIPTION:Les noves mesures entren en vigor el dilluns, 21 de juny, i tenen una vigència de 15 dies.

URI:https://www.dosrius.cat/actualitat/noticies/noves-mesures-anti-covid-trobades-sense-limit-de-persones-i-reobertura-de-loci-nocturn.html
CLASS:PUBLIC
END:VEVENT
END:VCALENDAR
