BEGIN:VCALENDAR
VERSION:2.0
CALSCALE:GREGORIAN
PRODID:-//Diputació de Barcelona//DibaCMS//EN
BEGIN:VEVENT
UID:2854
DTSTAMP:20260423T071941
DTSTART:20210615T140000
DTEND:20480626T000000
SUMMARY:L’Ajuntament repartirà aigua aquesta tarda entre els veïns i veïnes de Can Canyamars del Polígon A
LOCATION:
METHOD:PUBLISH
X-WR-CALNAME:dosrius@dosrius.cat
X-WR-TIMEZONE:Europe/Madrid
DESCRIPTION:Dimecres 16 de juny és previst que l’avaria quedi resolta i que els residents de Can Canyamars ja disposin d’aigua als seus domicilis.

URI:https://www.dosrius.cat/actualitat/noticies/lajuntament-repartira-aigua-aquesta-tarda-entre-els-veins-i-veines-de-can-canyamars-del-poligon-a.html
CLASS:PUBLIC
END:VEVENT
END:VCALENDAR
