BEGIN:VCALENDAR
VERSION:2.0
CALSCALE:GREGORIAN
PRODID:-//Diputació de Barcelona//DibaCMS//EN
BEGIN:VEVENT
UID:2850
DTSTAMP:20260423T082809
DTSTART:20210614T000000
DTEND:20480628T000000
SUMMARY:Avaria en la xarxa de subministrament d'aigua
LOCATION:
METHOD:PUBLISH
X-WR-CALNAME:dosrius@dosrius.cat
X-WR-TIMEZONE:Europe/Madrid
DESCRIPTION:S'estima que els treballs de reparació finalitzin a les 15 h, aproximadament.

URI:https://www.dosrius.cat/actualitat/noticies/avaria-en-la-xarxa-de-subministrament-daigua.html
CLASS:PUBLIC
END:VEVENT
END:VCALENDAR
