BEGIN:VCALENDAR
VERSION:2.0
CALSCALE:GREGORIAN
PRODID:-//Diputació de Barcelona//DibaCMS//EN
BEGIN:VEVENT
UID:2846
DTSTAMP:20260423T114505
DTSTART:20210609T000000
DTEND:20480626T000000
SUMMARY:L’Escola Municipal de Música celebra el concert de final de curs
LOCATION:
METHOD:PUBLISH
X-WR-CALNAME:dosrius@dosrius.cat
X-WR-TIMEZONE:Europe/Madrid
DESCRIPTION:L’actuació tindrà lloc el 20 de juny al Pou de Glaç de Canyamars.

URI:https://www.dosrius.cat/actualitat/noticies/lescola-municipal-de-musica-celebra-el-concert-de-final-de-curs.html
CLASS:PUBLIC
END:VEVENT
END:VCALENDAR
