BEGIN:VCALENDAR
VERSION:2.0
CALSCALE:GREGORIAN
PRODID:-//Diputació de Barcelona//DibaCMS//EN
BEGIN:VEVENT
UID:2842
DTSTAMP:20260423T041931
DTSTART:20210605T130000
DTEND:20480619T220000
SUMMARY:La Diputació de Barcelona invertirà 368.000€ en la millora de la carretera de Can Pruna 
LOCATION:
METHOD:PUBLISH
X-WR-CALNAME:dosrius@dosrius.cat
X-WR-TIMEZONE:Europe/Madrid
DESCRIPTION:Els treballs a la pujada de Can Massuet del Far tenen com a objectiu millorar la seguretat vial d’aquest camí.

URI:https://www.dosrius.cat/actualitat/noticies/la-diputacio-de-barcelona-invertira-368000eur-en-la-millora-de-la-carretera-de-can-pruna-.html
CLASS:PUBLIC
END:VEVENT
END:VCALENDAR
