BEGIN:VCALENDAR
VERSION:2.0
CALSCALE:GREGORIAN
PRODID:-//Diputació de Barcelona//DibaCMS//EN
BEGIN:VEVENT
UID:2840
DTSTAMP:20260423T082155
DTSTART:20210603T110000
DTEND:20480626T000000
SUMMARY:Dosrius se suma a la Setmana Internacional dels Arxius
LOCATION:
METHOD:PUBLISH
X-WR-CALNAME:dosrius@dosrius.cat
X-WR-TIMEZONE:Europe/Madrid
DESCRIPTION:Del 7 al 13 de juny se celebra arreu del món aquest esdeveniment que té com a data destacada el 9 de juny, Dia Internacional dels Arxius.

URI:https://www.dosrius.cat/actualitat/noticies/dosrius-se-suma-a-la-setmana-internacional-dels-arxius.html
CLASS:PUBLIC
END:VEVENT
END:VCALENDAR
