BEGIN:VCALENDAR
VERSION:2.0
CALSCALE:GREGORIAN
PRODID:-//Diputació de Barcelona//DibaCMS//EN
BEGIN:VEVENT
UID:2836
DTSTAMP:20260423T042052
DTSTART:20210604T080000
DTEND:20480626T000000
SUMMARY:Necessites suport per a fer tràmits digitals? Demana cita prèvia amb l’Àrea de Serveis Socials
LOCATION:
METHOD:PUBLISH
X-WR-CALNAME:dosrius@dosrius.cat
X-WR-TIMEZONE:Europe/Madrid
DESCRIPTION:L’Ajuntament ofereix ajuda a persones sense competències digitals o sense recursos informàtics per a realitzar tràmits telemàtics amb l’administració pública. 

URI:https://www.dosrius.cat/actualitat/noticies/necessites-suport-per-a-fer-tramits-digitals-demana-cita-previa-amb-larea-de-serveis-socials.html
CLASS:PUBLIC
END:VEVENT
END:VCALENDAR
