BEGIN:VCALENDAR
VERSION:2.0
CALSCALE:GREGORIAN
PRODID:-//Diputació de Barcelona//DibaCMS//EN
BEGIN:VEVENT
UID:2823
DTSTAMP:20260423T041906
DTSTART:20210521T000000
DTEND:20480522T000000
SUMMARY:Mesures previstes contra la Covid-19 a partir del 24 de maig
LOCATION:
METHOD:PUBLISH
X-WR-CALNAME:dosrius@dosrius.cat
X-WR-TIMEZONE:Europe/Madrid
DESCRIPTION:Bars i restaurants ja poden aplicar les noves mesures.

URI:https://www.dosrius.cat/actualitat/noticies/mesures-previstes-contra-la-covid-19-a-partir-del-24-de-maig.html
CLASS:PUBLIC
END:VEVENT
END:VCALENDAR
