BEGIN:VCALENDAR
VERSION:2.0
CALSCALE:GREGORIAN
PRODID:-//Diputació de Barcelona//DibaCMS//EN
BEGIN:VEVENT
UID:2821
DTSTAMP:20260423T053806
DTSTART:20210520T000000
DTEND:20480523T000000
SUMMARY:Laia Hernández, premiada al Recerca Jove
LOCATION:
METHOD:PUBLISH
X-WR-CALNAME:dosrius@dosrius.cat
X-WR-TIMEZONE:Europe/Madrid
DESCRIPTION:L’Ajuntament felicita a l’estudiant de Canyamars pel reconeixement rebut.

URI:https://www.dosrius.cat/actualitat/noticies/laia-hernandez-premiada-al-recerca-jove.html
CLASS:PUBLIC
END:VEVENT
END:VCALENDAR
