BEGIN:VCALENDAR
VERSION:2.0
CALSCALE:GREGORIAN
PRODID:-//Diputació de Barcelona//DibaCMS//EN
BEGIN:VEVENT
UID:2818
DTSTAMP:20260423T131506
DTSTART:20210518T110000
DTEND:20480522T000000
SUMMARY:Has de fer tràmits amb l’ORGT? Segueix aquests passos
LOCATION:
METHOD:PUBLISH
X-WR-CALNAME:dosrius@dosrius.cat
X-WR-TIMEZONE:Europe/Madrid
DESCRIPTION:Tota la informació es pot consultar al web www.dosrius.cat/ladministracio-a-un-clic/.

URI:https://www.dosrius.cat/actualitat/noticies/has-de-fer-tramits-amb-lorgt-segueix-aquests-passos.html
CLASS:PUBLIC
END:VEVENT
END:VCALENDAR
