BEGIN:VCALENDAR
VERSION:2.0
CALSCALE:GREGORIAN
PRODID:-//Diputació de Barcelona//DibaCMS//EN
BEGIN:VEVENT
UID:2807
DTSTAMP:20260423T070451
DTSTART:20210517T000000
DTEND:20480522T000000
SUMMARY:Dosrius se suma a la lluita contra la LGTBIfòbia
LOCATION:
METHOD:PUBLISH
X-WR-CALNAME:dosrius@dosrius.cat
X-WR-TIMEZONE:Europe/Madrid
DESCRIPTION:L’Ajuntament commemora aquest 17 de maig el Dia Internacional Contra l’Homofòbia: gaifòbia, lesbofòbia, transfòbia i bifòbia.

URI:https://www.dosrius.cat/actualitat/noticies/dosrius-se-suma-a-la-lluita-contra-la-lgtbifobia.html
CLASS:PUBLIC
END:VEVENT
END:VCALENDAR
