BEGIN:VCALENDAR
VERSION:2.0
CALSCALE:GREGORIAN
PRODID:-//Diputació de Barcelona//DibaCMS//EN
BEGIN:VEVENT
UID:2804
DTSTAMP:20260423T203429
DTSTART:20210513T000000
DTEND:20220520T000000
SUMMARY:L’Ajuntament de Dosrius desplegarà una campanya pionera de control de poblacions de vespa asiàtica
LOCATION:
METHOD:PUBLISH
X-WR-CALNAME:dosrius@dosrius.cat
X-WR-TIMEZONE:Europe/Madrid
DESCRIPTION:El programa es basa en la col·locació de trampes d’atracció de vespes obreres i reines per a debilitar els nius existents i evitar-ne així la creació de nous la següent temporada.

URI:https://www.dosrius.cat/arees/medi-ambient/dosrius-residus/292-actualitat/lajuntament-de-dosrius-desplegara-una-campanya-pionera-de-control-de-poblacions-de-vespa-asiatica.html
CLASS:PUBLIC
END:VEVENT
END:VCALENDAR
