BEGIN:VCALENDAR
VERSION:2.0
CALSCALE:GREGORIAN
PRODID:-//Diputació de Barcelona//DibaCMS//EN
BEGIN:VEVENT
UID:2797
DTSTAMP:20260423T072654
DTSTART:20210507T170000
DTEND:20480515T000000
SUMMARY:L’Ajuntament millora la seguretat viària del municipi
LOCATION:
METHOD:PUBLISH
X-WR-CALNAME:dosrius@dosrius.cat
X-WR-TIMEZONE:Europe/Madrid
DESCRIPTION:Entre els treballs que s’han dut a terme hi ha el pintat de la senyalització viària horitzontal i l’arranjament del paviment asfàltic.

URI:https://www.dosrius.cat/actualitat/noticies/lajuntament-millora-la-seguretat-viaria-del-municipi.html
CLASS:PUBLIC
END:VEVENT
END:VCALENDAR
