BEGIN:VCALENDAR
VERSION:2.0
CALSCALE:GREGORIAN
PRODID:-//Diputació de Barcelona//DibaCMS//EN
BEGIN:VEVENT
UID:2794
DTSTAMP:20260423T030232
DTSTART:20210506T000000
DTEND:20480529T000000
SUMMARY:El nou CUAP Maresme donarà cobertura als veïns i veïnes de Dosrius
LOCATION:
METHOD:PUBLISH
X-WR-CALNAME:dosrius@dosrius.cat
X-WR-TIMEZONE:Europe/Madrid
DESCRIPTION:El nou Centre d’Urgències d’Atenció Primària està ubicat a Mataró donarà resposta a urgències de baixa i mitjana complexitat de medicina general i pediatria. 

URI:https://www.dosrius.cat/actualitat/noticies/el-nou-cuap-maresme-donara-cobertura-als-veins-i-veines-de-dosrius.html
CLASS:PUBLIC
END:VEVENT
END:VCALENDAR
