BEGIN:VCALENDAR
VERSION:2.0
CALSCALE:GREGORIAN
PRODID:-//Diputació de Barcelona//DibaCMS//EN
BEGIN:VEVENT
UID:2790
DTSTAMP:20260423T053838
DTSTART:20210511T080000
DTEND:20480522T000000
SUMMARY:Convocatòria de les beques de menjador escolar per al curs 2021/2022
LOCATION:
METHOD:PUBLISH
X-WR-CALNAME:dosrius@dosrius.cat
X-WR-TIMEZONE:Europe/Madrid
DESCRIPTION:El termini de presentació de sol·licituds comença el 10 de maig i finalitza 7 de juny.

URI:https://www.dosrius.cat/actualitat/noticies/convocatoria-de-les-beques-de-menjador-escolar-per-al-curs-20212022.html
CLASS:PUBLIC
END:VEVENT
END:VCALENDAR
