BEGIN:VCALENDAR
VERSION:2.0
CALSCALE:GREGORIAN
PRODID:-//Diputació de Barcelona//DibaCMS//EN
BEGIN:VEVENT
UID:2774
DTSTAMP:20260423T053950
DTSTART:20210504T080000
DTEND:20480522T000000
SUMMARY:Dimecres 5 de maig s’interromprà temporalment el subministrament d’aigua potable per treballs de millora a la xarxa
LOCATION:
METHOD:PUBLISH
X-WR-CALNAME:dosrius@dosrius.cat
X-WR-TIMEZONE:Europe/Madrid
DESCRIPTION:La interrupció del servei afectarà diferents vials del municipi de 08 a 15 h.

URI:https://www.dosrius.cat/actualitat/noticies/dimecres-5-de-maig-sinterrompra-temporalment-el-subministrament-daigua-potable-per-treballs-de-millora-a-la-xarxa.html
CLASS:PUBLIC
END:VEVENT
END:VCALENDAR
