BEGIN:VCALENDAR
VERSION:2.0
CALSCALE:GREGORIAN
PRODID:-//Diputació de Barcelona//DibaCMS//EN
BEGIN:VEVENT
UID:2772
DTSTAMP:20260423T025016
DTSTART:20210501T000000
DTEND:20480529T000000
SUMMARY:Tall en el subministrament elèctric a Can Massuet del Far i Canyamars
LOCATION:
METHOD:PUBLISH
X-WR-CALNAME:dosrius@dosrius.cat
X-WR-TIMEZONE:Europe/Madrid
DESCRIPTION:La previsió inicial és que la incidència quedi resolta al llarg d'aquest migdia.

URI:https://www.dosrius.cat/actualitat/noticies/2772-tall-en-el-subministrament-electric-a-can-massuet-del-far-i-canyamars.html
CLASS:PUBLIC
END:VEVENT
END:VCALENDAR
