BEGIN:VCALENDAR
VERSION:2.0
CALSCALE:GREGORIAN
PRODID:-//Diputació de Barcelona//DibaCMS//EN
BEGIN:VEVENT
UID:2760
DTSTAMP:20260423T125513
DTSTART:20210428T080000
DTEND:20480320T000000
SUMMARY:El Bibliobús visitarà Dosrius el 3, 10, 17, 24 i 31 de maig
LOCATION:
METHOD:PUBLISH
X-WR-CALNAME:dosrius@dosrius.cat
X-WR-TIMEZONE:Europe/Madrid
DESCRIPTION:Els veïns i veïnes poden fer ús d'aquest servei en horari reduït, de 16 a 18.30 h, i seguint les mesures de seguretat i de prevenció establertes amb l’objectiu d’evitar el contagi i la propagació de la Covid-19.

URI:https://www.dosrius.cat/actualitat/noticies/el-bibliobus-visitara-dosrius-el-3-10-17-24-i-31-de-maig.html
CLASS:PUBLIC
END:VEVENT
END:VCALENDAR
