BEGIN:VCALENDAR
VERSION:2.0
CALSCALE:GREGORIAN
PRODID:-//Diputació de Barcelona//DibaCMS//EN
BEGIN:VEVENT
UID:2758
DTSTAMP:20260425T132459
DTSTART:20210422T000000
DTEND:20480424T000000
SUMMARY:Noves mesures per a la contenció de la Covid-19
LOCATION:
METHOD:PUBLISH
X-WR-CALNAME:dosrius@dosrius.cat
X-WR-TIMEZONE:Europe/Madrid
DESCRIPTION:Les mesures entraran en vigor el dilluns 26 d’abril. 

URI:https://www.dosrius.cat/actualitat/noticies/noves-mesures-per-a-la-contencio-de-la-covid-19.html
CLASS:PUBLIC
END:VEVENT
END:VCALENDAR
