BEGIN:VCALENDAR
VERSION:2.0
CALSCALE:GREGORIAN
PRODID:-//Diputació de Barcelona//DibaCMS//EN
BEGIN:VEVENT
UID:2743
DTSTAMP:20260423T094948
DTSTART:20210408T000000
DTEND:20480424T000000
SUMMARY:Noves mesures contra la Covid-19 a partir del 9 d'abril
LOCATION:
METHOD:PUBLISH
X-WR-CALNAME:dosrius@dosrius.cat
X-WR-TIMEZONE:Europe/Madrid
DESCRIPTION:La restricció de la mobilitat s’allarga fins el 19 d’abril i es mantenen la resta de mesures ja establertes.

URI:https://www.dosrius.cat/actualitat/noticies/noves-mesures-contra-la-covid-19-a-partir-del-9-dabril.html
CLASS:PUBLIC
END:VEVENT
END:VCALENDAR
