BEGIN:VCALENDAR
VERSION:2.0
CALSCALE:GREGORIAN
PRODID:-//Diputació de Barcelona//DibaCMS//EN
BEGIN:VEVENT
UID:2740
DTSTAMP:20260423T083931
DTSTART:20210510T080000
DTEND:20480424T000000
SUMMARY:Preinscripcions a l’EBM La Caseta del Bosc de Can Martorell pel curs 2021-2022
LOCATION:
METHOD:PUBLISH
X-WR-CALNAME:dosrius@dosrius.cat
X-WR-TIMEZONE:Europe/Madrid
DESCRIPTION:Les famílies interessades cal que demanin cita prèvia al centre per a concertar el dia i l’hora per a formalitzar la preinscripció, que enguany estarà oberta del 10 al 21 de maig. 

URI:https://www.dosrius.cat/actualitat/noticies/preinscripcions-a-lebm-la-caseta-del-bosc-de-can-martorell-pel-curs-2021-2022.html
CLASS:PUBLIC
END:VEVENT
END:VCALENDAR
