BEGIN:VCALENDAR
VERSION:2.0
CALSCALE:GREGORIAN
PRODID:-//Diputació de Barcelona//DibaCMS//EN
BEGIN:VEVENT
UID:2734
DTSTAMP:20260423T094922
DTSTART:20210406T080000
DTEND:20480424T000000
SUMMARY:Dosrius, amb el Dia Mundial de l'Activitat Física
LOCATION:
METHOD:PUBLISH
X-WR-CALNAME:dosrius@dosrius.cat
X-WR-TIMEZONE:Europe/Madrid
DESCRIPTION:El lema de l’edició d’aquest 2021 és “Cada pas compta” i l’Ajuntament anima als veïns i veïnes a prendre part activament de les diferents activitats que es duen a terme a través d’Els Localets.

URI:https://www.dosrius.cat/actualitat/noticies/dosrius-amb-el-dia-mundial-de-lactivitat-fisica.html
CLASS:PUBLIC
END:VEVENT
END:VCALENDAR
