BEGIN:VCALENDAR
VERSION:2.0
CALSCALE:GREGORIAN
PRODID:-//Diputació de Barcelona//DibaCMS//EN
BEGIN:VEVENT
UID:2719
DTSTAMP:20260423T110428
DTSTART:20210329T000000
DTEND:20480327T000000
SUMMARY:L’AECC-Catalunya contra el Càncer ofereix un programa d’activitat física i nutrició i un grup d'autoestima i càncer
LOCATION:
METHOD:PUBLISH
X-WR-CALNAME:dosrius@dosrius.cat
X-WR-TIMEZONE:Europe/Madrid
DESCRIPTION:El programa d’activitat física i nutrició es durà a terme del 26 d’abril al 15 de juliol; mentre que el grup d'autoestima i càncer es reunirà del 7 d'abril al 26 de maig.

URI:https://www.dosrius.cat/actualitat/noticies/laecc-catalunya-contra-el-cancer-ofereix-un-programa-dactivitat-fisica-i-nutricio-i-un-grup-dautoestima-i-cancer.html
CLASS:PUBLIC
END:VEVENT
END:VCALENDAR
