BEGIN:VCALENDAR
VERSION:2.0
CALSCALE:GREGORIAN
PRODID:-//Diputació de Barcelona//DibaCMS//EN
BEGIN:VEVENT
UID:2708
DTSTAMP:20260423T095105
DTSTART:20210325T000000
DTEND:20480320T000000
SUMMARY:Aquest cap de setmana la Volta Ciclista a Catalunya transcorrerà per Dosrius
LOCATION:
METHOD:PUBLISH
X-WR-CALNAME:dosrius@dosrius.cat
X-WR-TIMEZONE:Europe/Madrid
DESCRIPTION:El municipi acollirà el 27 de març un tram de la sisena etapa d’aquesta icònica competició on hi prendran part algunes de les primeres figures del ciclisme mundial.

URI:https://www.dosrius.cat/actualitat/noticies/aquest-cap-de-setmana-la-volta-ciclista-a-catalunya-transcorrera-per-dosrius.html
CLASS:PUBLIC
END:VEVENT
END:VCALENDAR
